BEGIN:VCALENDAR
VERSION:2.0
PRODID:-//Squarespace Inc/Squarespace 6//v6//EN
BEGIN:VEVENT
UID:592fa1d1cd0f68e5bb18d3c7@squarespace.com
DTSTAMP:20170809T024029Z
DTSTART:20170824T233000Z
DTEND:20170825T073000Z
SUMMARY:Ziran Qi Gong. Ancient Teachings - Modern Practice - <strong>Day 1 
 of 3</strong><br><br>Instructor Paul Dumais  
GEO:-34.956837;138.895742
LOCATION:Bird in Hand Winery\, Bird in Hand and Pfeiffer Roads\, Woodside\, 
 SA\, 5244\, Australia
END:VEVENT
END:VCALENDAR
