BEGIN:VCALENDAR
VERSION:2.0
PRODID:-//Squarespace Inc/Squarespace 6//v6//EN
BEGIN:VEVENT
UID:58f578dde6f2e1ab28c1c01b@squarespace.com
DTSTAMP:20170601T051041Z
DTSTART:20170519T130000Z
DTEND:20170519T193000Z
SUMMARY:Ziran Qi Gong. Ancient Teachings - Modern Practice - <strong>Day 1 
 of 2</strong><br><br>Instructor Paul Dumais  
GEO:-34.956837;138.895742
LOCATION:Bird in Hand Winery\, Bird in Hand and Pfeiffer Roads\, Woodside\, 
 SA\, 5244\, Australia
END:VEVENT
END:VCALENDAR
