BEGIN:VCALENDAR
VERSION:2.0
PRODID:-//Squarespace Inc/Squarespace 6//v6//EN
BEGIN:VEVENT
UID:592fa2c08419c2f203bd4151@squarespace.com
DTSTAMP:20170901T003751Z
DTSTART:20170826T233000Z
DTEND:20170827T073000Z
SUMMARY:Ziran Qi Gong. Ancient Teachings - Modern Practice - <strong>Day 3 
 of 3</strong><br><br>Instructor Paul Dumais 
GEO:-34.956837;138.895742
LOCATION:Bird in Hand Winery\, Bird in Hand and Pfeiffer roads\, Woodside\, 
 SA\, 5244\, Australia
END:VEVENT
END:VCALENDAR
