BEGIN:VCALENDAR
VERSION:2.0
PRODID:-//Squarespace Inc/Squarespace 6//v6//EN
BEGIN:VEVENT
UID:592fa27637c581978d661605@squarespace.com
DTSTAMP:20170901T003459Z
DTSTART:20170825T233000Z
DTEND:20170826T073000Z
SUMMARY:Ziran Qi Gong. Ancient Teachings - Modern Practice - <strong>Day 2 
 of 2 SOLD OUT</strong><br><br>Instructor Paul Dumais 
GEO:-34.956837;138.895742
LOCATION:Bird in Hand Winery\, Bird in Hand and Pfeiffer roads\, Woodside\, 
 SA\, 5244\, Australia
END:VEVENT
END:VCALENDAR
