BEGIN:VCALENDAR
VERSION:2.0
PRODID:-//Squarespace Inc/Squarespace 6//v6//EN
BEGIN:VEVENT
UID:58f830c5e6f2e18660ce6db2@squarespace.com
DTSTAMP:20170601T051326Z
DTSTART:20170520T130000Z
DTEND:20170520T193000Z
SUMMARY:Ziran Qi Gong. Ancient Teachings - Modern Practice - <strong>Day 2 
 of 2</strong><br><br>Instructor Paul Dumais 
GEO:-34.956837;138.895742
LOCATION:Bird in Hand Winery\, Bird in Hand and Pfeiffer roads\, Woodside\, 
 SA\, 5244\, Australia
END:VEVENT
END:VCALENDAR
