BEGIN:VCALENDAR
VERSION:2.0
PRODID:-//Squarespace Inc/Squarespace 6//v6//EN
BEGIN:VEVENT
UID:58f57fce9f7456166b672d24@squarespace.com
DTSTAMP:20170904T233556Z
DTSTART:20170921T230000Z
DTEND:20170922T063000Z
SUMMARY:Chronic Pain. Hands on – Hands off?
GEO:-34.956837;138.895742
LOCATION:Bird in Hand Winery\, Bird in Hand and Pfeiffer roads\, Woodside\, 
 SA\, 5244\, Australia
END:VEVENT
END:VCALENDAR
