BEGIN:VCALENDAR
VERSION:2.0
PRODID:-//Squarespace Inc/Squarespace 6//v6//EN
BEGIN:VEVENT
UID:59bf53f6bce1769be9e587c7@squarespace.com
DTSTAMP:20190125T043222Z
DTSTART:20190227T223000Z
DTEND:20190228T020000Z
SUMMARY:William Meader - Esoteric Astrology ~ The Revealer of the Soul's In
 tention  - Limited Tickets Now Available
GEO:-34.969396;138.680764
LOCATION:Utopia\, 170 Waterfall Gulley Road\, Waterfall Gulley\, Australia
END:VEVENT
END:VCALENDAR
